BEGIN:VCALENDAR
VERSION:2.0
PRODID:-//Southwark IV - ECPv6.11.2.1//NONSGML v1.0//EN
CALSCALE:GREGORIAN
METHOD:PUBLISH
X-ORIGINAL-URL:https://southwarkiv.co.uk
X-WR-CALDESC:Events for Southwark IV
REFRESH-INTERVAL;VALUE=DURATION:PT1H
X-Robots-Tag:noindex
X-PUBLISHED-TTL:PT1H
BEGIN:VTIMEZONE
TZID:Europe/London
BEGIN:DAYLIGHT
TZOFFSETFROM:+0000
TZOFFSETTO:+0100
TZNAME:BST
DTSTART:20250330T010000
END:DAYLIGHT
BEGIN:STANDARD
TZOFFSETFROM:+0100
TZOFFSETTO:+0000
TZNAME:GMT
DTSTART:20251026T010000
END:STANDARD
END:VTIMEZONE
BEGIN:VEVENT
DTSTART;TZID=Europe/London:20250611T190000
DTEND;TZID=Europe/London:20250611T203000
DTSTAMP:20260425T121837
CREATED:20250404T135443Z
LAST-MODIFIED:20250404T135502Z
UID:10000002-1749668400-1749673800@southwarkiv.co.uk
SUMMARY:Nurturing Your Autistic Young Person
DESCRIPTION:Event: Nurturing Your Autistic Young Person \n📅 Date: 11th June 2025\n⏰ Time: 7:00 PM – 8:30 PM (90 mins)\n📍 Location: Virtual (Online)\n📌 Open to parents and carers in Southwark \nTo register\, email us at: info@southwarkiv.co.uk
URL:https://southwarkiv.co.uk/event/nurturing-your-autistic-young-person/
END:VEVENT
END:VCALENDAR