BEGIN:VCALENDAR
VERSION:2.0
PRODID:-//Southwark IV - ECPv6.11.2.1//NONSGML v1.0//EN
CALSCALE:GREGORIAN
METHOD:PUBLISH
X-ORIGINAL-URL:https://southwarkiv.co.uk
X-WR-CALDESC:Events for Southwark IV
REFRESH-INTERVAL;VALUE=DURATION:PT1H
X-Robots-Tag:noindex
X-PUBLISHED-TTL:PT1H
BEGIN:VTIMEZONE
TZID:Europe/London
BEGIN:DAYLIGHT
TZOFFSETFROM:+0000
TZOFFSETTO:+0100
TZNAME:BST
DTSTART:20250330T010000
END:DAYLIGHT
BEGIN:STANDARD
TZOFFSETFROM:+0100
TZOFFSETTO:+0000
TZNAME:GMT
DTSTART:20251026T010000
END:STANDARD
END:VTIMEZONE
BEGIN:VEVENT
DTSTART;TZID=Europe/London:20250603T100000
DTEND;TZID=Europe/London:20250603T130000
DTSTAMP:20260425T134032
CREATED:20250422T095037Z
LAST-MODIFIED:20250422T095037Z
UID:10000005-1748944800-1748955600@southwarkiv.co.uk
SUMMARY:SIV Coffee Morning: Ask Me Anything!
DESCRIPTION:☕ SIV Coffee Morning: Ask Me Anything!\n📅 Date: Tuesday\, 3rd June 2025\n⏰ Time: 10:00 AM – 1:00 PM\n📍 Location: Links Community Centre\, 353 Rotherhithe New Road\, SE16 3HF\n📌 Open to: Parents and carers in Southwark \nAbout the event:\nThis special coffee morning brings together adults with lived experience of autism and/or ADHD — some with a single diagnosis\, others with both. It’s a rare and brilliant opportunity to: \n\nAsk questions you’ve always wanted to ask\, in a supportive and respectful space\nHear about their experiences\, challenges\, and insights\n Learn how neurodivergence can shape identity\, family life\, and make the world a\nbetter place.\n\nAs parent carers\, thinking about our children’s future can feel overwhelming — this is your chance to connect with people who’ve been there\, and who can offer real-life perspectives and hope. \n✨ No question is too small or too awkward — just honest\, open conversation.
URL:https://southwarkiv.co.uk/event/siv-coffee-morning-ask-me-anything/
END:VEVENT
END:VCALENDAR