BEGIN:VCALENDAR
VERSION:2.0
PRODID:-//Southwark IV - ECPv6.11.2.1//NONSGML v1.0//EN
CALSCALE:GREGORIAN
METHOD:PUBLISH
X-ORIGINAL-URL:https://southwarkiv.co.uk
X-WR-CALDESC:Events for Southwark IV
REFRESH-INTERVAL;VALUE=DURATION:PT1H
X-Robots-Tag:noindex
X-PUBLISHED-TTL:PT1H
BEGIN:VTIMEZONE
TZID:Europe/London
BEGIN:DAYLIGHT
TZOFFSETFROM:+0000
TZOFFSETTO:+0100
TZNAME:BST
DTSTART:20250330T010000
END:DAYLIGHT
BEGIN:STANDARD
TZOFFSETFROM:+0100
TZOFFSETTO:+0000
TZNAME:GMT
DTSTART:20251026T010000
END:STANDARD
END:VTIMEZONE
BEGIN:VEVENT
DTSTART;TZID=Europe/London:20250514T190000
DTEND;TZID=Europe/London:20250514T203000
DTSTAMP:20260425T112755
CREATED:20250401T075139Z
LAST-MODIFIED:20250404T134923Z
UID:10000001-1747249200-1747254600@southwarkiv.co.uk
SUMMARY:Autism Girls & Keeping it All Inside
DESCRIPTION:Event: Autism Girls & Keeping it All Inside \n📅 Date: 14th May 2025\n⏰ Time: 7:00 PM – 8:30 PM (90 mins)\n📍 Location: Virtual (Online)\n📌 Open to parents and carers in Southwark \nTo register\, email us at: info@southwarkiv.co.uk
URL:https://southwarkiv.co.uk/event/autism-girls-keeping-it-all-inside/
END:VEVENT
END:VCALENDAR