BEGIN:VCALENDAR
VERSION:2.0
PRODID:-//Southwark IV - ECPv6.11.2.1//NONSGML v1.0//EN
CALSCALE:GREGORIAN
METHOD:PUBLISH
X-WR-CALNAME:Southwark IV
X-ORIGINAL-URL:https://southwarkiv.co.uk
X-WR-CALDESC:Events for Southwark IV
REFRESH-INTERVAL;VALUE=DURATION:PT1H
X-Robots-Tag:noindex
X-PUBLISHED-TTL:PT1H
BEGIN:VTIMEZONE
TZID:Europe/London
BEGIN:DAYLIGHT
TZOFFSETFROM:+0000
TZOFFSETTO:+0100
TZNAME:BST
DTSTART:20250330T010000
END:DAYLIGHT
BEGIN:STANDARD
TZOFFSETFROM:+0100
TZOFFSETTO:+0000
TZNAME:GMT
DTSTART:20251026T010000
END:STANDARD
BEGIN:DAYLIGHT
TZOFFSETFROM:+0000
TZOFFSETTO:+0100
TZNAME:BST
DTSTART:20260329T010000
END:DAYLIGHT
BEGIN:STANDARD
TZOFFSETFROM:+0100
TZOFFSETTO:+0000
TZNAME:GMT
DTSTART:20261025T010000
END:STANDARD
END:VTIMEZONE
BEGIN:VEVENT
DTSTART;TZID=Europe/London:20250603T100000
DTEND;TZID=Europe/London:20250603T130000
DTSTAMP:20260425T122012
CREATED:20250422T095037Z
LAST-MODIFIED:20250422T095037Z
UID:10000005-1748944800-1748955600@southwarkiv.co.uk
SUMMARY:SIV Coffee Morning: Ask Me Anything!
DESCRIPTION:☕ SIV Coffee Morning: Ask Me Anything!\n📅 Date: Tuesday\, 3rd June 2025\n⏰ Time: 10:00 AM – 1:00 PM\n📍 Location: Links Community Centre\, 353 Rotherhithe New Road\, SE16 3HF\n📌 Open to: Parents and carers in Southwark \nAbout the event:\nThis special coffee morning brings together adults with lived experience of autism and/or ADHD — some with a single diagnosis\, others with both. It’s a rare and brilliant opportunity to: \n\nAsk questions you’ve always wanted to ask\, in a supportive and respectful space\nHear about their experiences\, challenges\, and insights\n Learn how neurodivergence can shape identity\, family life\, and make the world a\nbetter place.\n\nAs parent carers\, thinking about our children’s future can feel overwhelming — this is your chance to connect with people who’ve been there\, and who can offer real-life perspectives and hope. \n✨ No question is too small or too awkward — just honest\, open conversation.
URL:https://southwarkiv.co.uk/event/siv-coffee-morning-ask-me-anything/
END:VEVENT
BEGIN:VEVENT
DTSTART;TZID=Europe/London:20250611T190000
DTEND;TZID=Europe/London:20250611T203000
DTSTAMP:20260425T122012
CREATED:20250404T135443Z
LAST-MODIFIED:20250404T135502Z
UID:10000002-1749668400-1749673800@southwarkiv.co.uk
SUMMARY:Nurturing Your Autistic Young Person
DESCRIPTION:Event: Nurturing Your Autistic Young Person \n📅 Date: 11th June 2025\n⏰ Time: 7:00 PM – 8:30 PM (90 mins)\n📍 Location: Virtual (Online)\n📌 Open to parents and carers in Southwark \nTo register\, email us at: info@southwarkiv.co.uk
URL:https://southwarkiv.co.uk/event/nurturing-your-autistic-young-person/
END:VEVENT
BEGIN:VEVENT
DTSTART;TZID=Europe/London:20250701T100000
DTEND;TZID=Europe/London:20250701T130000
DTSTAMP:20260425T122012
CREATED:20250422T095307Z
LAST-MODIFIED:20250422T144939Z
UID:10000006-1751364000-1751374800@southwarkiv.co.uk
SUMMARY:SIV Coffee Morning: Understanding School Transport & Support Options
DESCRIPTION:☕ SIV Coffee Morning: Understanding School Transport & Support Options\n📅 Date: Tuesday\, 1st July 2025\n⏰ Time: 10:00 AM – 1:00 PM\n📍 Location: Links Community Centre\, 353 Rotherhithe New Road\, SE16 3HF\n📌 Open to: Parents and carers in Southwark \nAbout the event:\nJoin us for an essential coKee morning focused on key topics many families have questions about\, including: \n\nApplying for school transport\nUnderstanding direct payments for transport\nWhat independent travel training really involves\nNavigating the complaints process\n\nAs your child enters secondary school\, you may be told they qualify for independent travel training or be asked to switch from school transport to direct payments. It’s important to understand what this means for you and your child — and what support\nyou’re entitled to. \nComplaints about transport can be distressing and often go unheard. This session gives you the opportunity to raise your concerns and help shape future improvements. \nWe’re pleased to welcome Suzannah Beazley\, Interim Travel Assistance Manager/Sustainable Travel Development Lead\, who will be on hand to answer your questions and listen to your experiences. \n🗣 Your voice matters — let’s work together to make the system better for everyone.
URL:https://southwarkiv.co.uk/event/siv-coffee-morning-understanding-school-transport-support-options/
END:VEVENT
BEGIN:VEVENT
DTSTART;TZID=Europe/London:20250709T190000
DTEND;TZID=Europe/London:20250709T200000
DTSTAMP:20260425T122012
CREATED:20250404T135606Z
LAST-MODIFIED:20250404T135606Z
UID:10000003-1752087600-1752091200@southwarkiv.co.uk
SUMMARY:Identifying & Regulating Emotions
DESCRIPTION:Event: Identifying & Regulating Emotions \n📅 Date: 9th July 2025\n⏰ Time: 7:00 PM – 8:30 PM (90 mins)\n📍 Location: Virtual (Online)\n📌 Open to parents and carers in Southwark \nTo register\, email us at: info@southwarkiv.co.uk
URL:https://southwarkiv.co.uk/event/identifying-regulating-emotions/
END:VEVENT
BEGIN:VEVENT
DTSTART;TZID=Europe/London:20250911T100000
DTEND;TZID=Europe/London:20250911T130000
DTSTAMP:20260425T122012
CREATED:20250818T101239Z
LAST-MODIFIED:20250818T101239Z
UID:10000009-1757584800-1757595600@southwarkiv.co.uk
SUMMARY:School Transport
DESCRIPTION:
URL:https://southwarkiv.co.uk/event/school-transport/
LOCATION:The Links Community Centre\, 353 Rotherhithe New Rd\,\, SE16 3HF\, United Kingdom
ATTACH;FMTTYPE=image/jpeg:https://southwarkiv.co.uk/wp-content/uploads/2025/08/Flyer-Transport-Coffee-morning-Sept25.jpg
END:VEVENT
BEGIN:VEVENT
DTSTART;TZID=Europe/London:20250926T100000
DTEND;TZID=Europe/London:20250926T130000
DTSTAMP:20260425T122012
CREATED:20250818T100954Z
LAST-MODIFIED:20250818T100954Z
UID:10000008-1758880800-1758891600@southwarkiv.co.uk
SUMMARY:Occupational Therapy
DESCRIPTION:
URL:https://southwarkiv.co.uk/event/occupational-therapy/
LOCATION:The Links Community Centre\, 353 Rotherhithe New Rd\,\, SE16 3HF\, United Kingdom
ATTACH;FMTTYPE=image/jpeg:https://southwarkiv.co.uk/wp-content/uploads/2025/08/Flyer-Health-coffee-morning-Sept-25.jpg
END:VEVENT
BEGIN:VEVENT
DTSTART;TZID=Europe/London:20251120T100000
DTEND;TZID=Europe/London:20251120T143000
DTSTAMP:20260425T122012
CREATED:20251110T120724Z
LAST-MODIFIED:20251110T120724Z
UID:10000010-1763632800-1763649000@southwarkiv.co.uk
SUMMARY:Sunshine House and CAMHs Autism and ADHD diagnosis pathways Restricted eating including ARFID plus dietician
DESCRIPTION:
URL:https://southwarkiv.co.uk/event/sunshine-house-and-camhs-autism-and-adhd-diagnosis-pathways-restricted-eating-including-arfid-plus-dietician/
LOCATION:The Links Community Centre\, 353 Rotherhithe New Rd\,\, SE16 3HF\, United Kingdom
ATTACH;FMTTYPE=image/jpeg:https://southwarkiv.co.uk/wp-content/uploads/2025/11/NHS-Event-Nov-25-pdf-scaled.jpg
END:VEVENT
BEGIN:VEVENT
DTSTART;TZID=Europe/London:20260423T100000
DTEND;TZID=Europe/London:20260423T130000
DTSTAMP:20260425T122012
CREATED:20260311T162813Z
LAST-MODIFIED:20260311T162813Z
UID:10000011-1776938400-1776949200@southwarkiv.co.uk
SUMMARY:SEND Reforms Consultation Session
DESCRIPTION:
URL:https://southwarkiv.co.uk/event/send-reforms-consultation-session/
LOCATION:The Links Community Centre\, 353 Rotherhithe New Rd\,\, SE16 3HF\, United Kingdom
ATTACH;FMTTYPE=image/png:https://southwarkiv.co.uk/wp-content/uploads/2026/03/SEND-Reforms-Consultation-Session-Flyer.png
END:VEVENT
END:VCALENDAR